BEGIN:VCALENDAR
VERSION:2.0
PRODID:-//Le jardin de Saint Jean - ECPv6.15.20//NONSGML v1.0//EN
CALSCALE:GREGORIAN
METHOD:PUBLISH
X-WR-CALNAME:Le jardin de Saint Jean
X-ORIGINAL-URL:https://www.lejardindesaintjean.fr
X-WR-CALDESC:Évènements pour Le jardin de Saint Jean
REFRESH-INTERVAL;VALUE=DURATION:PT1H
X-Robots-Tag:noindex
X-PUBLISHED-TTL:PT1H
BEGIN:VTIMEZONE
TZID:Europe/Paris
BEGIN:DAYLIGHT
TZOFFSETFROM:+0100
TZOFFSETTO:+0200
TZNAME:CEST
DTSTART:20250330T010000
END:DAYLIGHT
BEGIN:STANDARD
TZOFFSETFROM:+0200
TZOFFSETTO:+0100
TZNAME:CET
DTSTART:20251026T010000
END:STANDARD
BEGIN:DAYLIGHT
TZOFFSETFROM:+0100
TZOFFSETTO:+0200
TZNAME:CEST
DTSTART:20260329T010000
END:DAYLIGHT
BEGIN:STANDARD
TZOFFSETFROM:+0200
TZOFFSETTO:+0100
TZNAME:CET
DTSTART:20261025T010000
END:STANDARD
BEGIN:DAYLIGHT
TZOFFSETFROM:+0100
TZOFFSETTO:+0200
TZNAME:CEST
DTSTART:20270328T010000
END:DAYLIGHT
BEGIN:STANDARD
TZOFFSETFROM:+0200
TZOFFSETTO:+0100
TZNAME:CET
DTSTART:20271031T010000
END:STANDARD
END:VTIMEZONE
BEGIN:VEVENT
DTSTART;TZID=Europe/Paris:20260613T080000
DTEND;TZID=Europe/Paris:20260613T170000
DTSTAMP:20260421T103734
CREATED:20260104T065744Z
LAST-MODIFIED:20260113T232646Z
UID:4187-1781337600-1781370000@www.lejardindesaintjean.fr
SUMMARY:Récolte sauvage & dégustation
DESCRIPTION:Balade sensorielle : ortie\, plantain\, fraise des bois… Dégustation sur place\, fiche offerte.
URL:https://www.lejardindesaintjean.fr/event/recolte-sauvage-degustation/
LOCATION:Le jardin de Saint Jean\, 12 Route du Parquet\, SAINT-JEAN-AUX-BOIS\, 60350\, France
CATEGORIES:Forêt,Restauration
ORGANIZER;CN="Eric":MAILTO:eric@terre.design
END:VEVENT
END:VCALENDAR